BEGIN:VCALENDAR
VERSION:2.0
PRODID:-//Dementia Support Hampshire &amp; IOW - ECPv6.15.20//NONSGML v1.0//EN
CALSCALE:GREGORIAN
METHOD:PUBLISH
X-WR-CALNAME:Dementia Support Hampshire &amp; IOW
X-ORIGINAL-URL:https://www.mydementiasupport.org
X-WR-CALDESC:Events for Dementia Support Hampshire &amp; IOW
REFRESH-INTERVAL;VALUE=DURATION:PT1H
X-Robots-Tag:noindex
X-PUBLISHED-TTL:PT1H
BEGIN:VTIMEZONE
TZID:Europe/London
BEGIN:DAYLIGHT
TZOFFSETFROM:+0000
TZOFFSETTO:+0100
TZNAME:BST
DTSTART:20250330T010000
END:DAYLIGHT
BEGIN:STANDARD
TZOFFSETFROM:+0100
TZOFFSETTO:+0000
TZNAME:GMT
DTSTART:20251026T010000
END:STANDARD
BEGIN:DAYLIGHT
TZOFFSETFROM:+0000
TZOFFSETTO:+0100
TZNAME:BST
DTSTART:20260329T010000
END:DAYLIGHT
BEGIN:STANDARD
TZOFFSETFROM:+0100
TZOFFSETTO:+0000
TZNAME:GMT
DTSTART:20261025T010000
END:STANDARD
BEGIN:DAYLIGHT
TZOFFSETFROM:+0000
TZOFFSETTO:+0100
TZNAME:BST
DTSTART:20270328T010000
END:DAYLIGHT
BEGIN:STANDARD
TZOFFSETFROM:+0100
TZOFFSETTO:+0000
TZNAME:GMT
DTSTART:20271031T010000
END:STANDARD
END:VTIMEZONE
BEGIN:VEVENT
DTSTART;TZID=Europe/London:20260724T120000
DTEND;TZID=Europe/London:20260724T160000
DTSTAMP:20260423T111522
CREATED:20260311T145145Z
LAST-MODIFIED:20260311T145646Z
UID:10044583-1784894400-1784908800@www.mydementiasupport.org
SUMMARY:An Afternoon by the Sea
DESCRIPTION:Join us for an afternoon by the sea at The Wheelhouse in Stubbington. \nIf the weather is good\, we will sit outdoors for lunch and conversation followed by a walk along the sea front for those that wish to do so. \nBring a packed lunch or order some fish & chips to be delivered\, and maybe treat yourself to an ice cream! \nWe will also have some activities available in doors for those of you that prefer to stay out of the sun\, or if the weather is not too good. \nWe will meet at The Wheelhouse at midday and stay until 4pm. \n 
URL:https://www.mydementiasupport.org/event/an-afternoon-by-the-sea/
LOCATION:The Wheelhouse\, Salterns Road\, Stubbington\, Fareham\, Hampshire\, PO14 3LR\, United Kingdom
CATEGORIES:Dementia Cafe,Dementia Support Hampshire & IOW,Memory Cafe,Peer Support Group,Social Event,Support Drop - In,Walking
ATTACH;FMTTYPE=image/jpeg:https://www.mydementiasupport.org/wp-content/uploads/2025/05/The-Wheelhouse-2023.jpg
ORGANIZER;CN="Dementia Support Hampshire & IOW":MAILTO:support@mydementiasupport.org
GEO:50.8134386;-1.2211173
X-APPLE-STRUCTURED-LOCATION;VALUE=URI;X-ADDRESS=The Wheelhouse Salterns Road Stubbington Fareham Hampshire PO14 3LR United Kingdom;X-APPLE-RADIUS=500;X-TITLE=Salterns Road\, Stubbington:geo:-1.2211173,50.8134386
END:VEVENT
BEGIN:VEVENT
DTSTART;TZID=Europe/London:20260729T120000
DTEND;TZID=Europe/London:20260729T160000
DTSTAMP:20260423T111522
CREATED:20260311T145537Z
LAST-MODIFIED:20260311T145537Z
UID:10044584-1785326400-1785340800@www.mydementiasupport.org
SUMMARY:An Afternoon by the Sea
DESCRIPTION:Join us for an afternoon by the sea at The Wheelhouse in Stubbington. \nIf the weather is good\, we will sit outdoors for lunch and conversation followed by a walk along the sea front for those that wish to do so. \nBring a packed lunch or order some fish & chips to be delivered\, and maybe treat yourself to an ice cream! \nWe will also have some activities available in doors for those of you that prefer to stay out of the sun\, or if the weather is not too good. \nWe will meet at The Wheelhouse at midday and stay until 4pm.
URL:https://www.mydementiasupport.org/event/an-afternoon-by-the-sea-2/
LOCATION:The Wheelhouse\, Salterns Road\, Stubbington\, Fareham\, Hampshire\, PO14 3LR\, United Kingdom
CATEGORIES:Dementia Cafe,Dementia Support Hampshire & IOW,Leisure Event,Memory Cafe,Peer Support Group,Social Event,Support Group,Walking
ATTACH;FMTTYPE=image/jpeg:https://www.mydementiasupport.org/wp-content/uploads/2025/05/The-Wheelhouse-2023.jpg
ORGANIZER;CN="Dementia Support Hampshire & IOW":MAILTO:support@mydementiasupport.org
GEO:50.8134386;-1.2211173
X-APPLE-STRUCTURED-LOCATION;VALUE=URI;X-ADDRESS=The Wheelhouse Salterns Road Stubbington Fareham Hampshire PO14 3LR United Kingdom;X-APPLE-RADIUS=500;X-TITLE=Salterns Road\, Stubbington:geo:-1.2211173,50.8134386
END:VEVENT
END:VCALENDAR