BEGIN:VCALENDAR
VERSION:2.0
PRODID:-//Dementia Support Hampshire &amp; IOW - ECPv6.15.20//NONSGML v1.0//EN
CALSCALE:GREGORIAN
METHOD:PUBLISH
X-WR-CALNAME:Dementia Support Hampshire &amp; IOW
X-ORIGINAL-URL:https://www.mydementiasupport.org
X-WR-CALDESC:Events for Dementia Support Hampshire &amp; IOW
REFRESH-INTERVAL;VALUE=DURATION:PT1H
X-Robots-Tag:noindex
X-PUBLISHED-TTL:PT1H
BEGIN:VTIMEZONE
TZID:Europe/London
BEGIN:DAYLIGHT
TZOFFSETFROM:+0000
TZOFFSETTO:+0100
TZNAME:BST
DTSTART:20300331T010000
END:DAYLIGHT
BEGIN:STANDARD
TZOFFSETFROM:+0100
TZOFFSETTO:+0000
TZNAME:GMT
DTSTART:20301027T010000
END:STANDARD
BEGIN:DAYLIGHT
TZOFFSETFROM:+0000
TZOFFSETTO:+0100
TZNAME:BST
DTSTART:20310330T010000
END:DAYLIGHT
BEGIN:STANDARD
TZOFFSETFROM:+0100
TZOFFSETTO:+0000
TZNAME:GMT
DTSTART:20311026T010000
END:STANDARD
BEGIN:DAYLIGHT
TZOFFSETFROM:+0000
TZOFFSETTO:+0100
TZNAME:BST
DTSTART:20320328T010000
END:DAYLIGHT
BEGIN:STANDARD
TZOFFSETFROM:+0100
TZOFFSETTO:+0000
TZNAME:GMT
DTSTART:20321031T010000
END:STANDARD
END:VTIMEZONE
BEGIN:VEVENT
DTSTART;TZID=Europe/London:20310122T133000
DTEND;TZID=Europe/London:20310122T153000
DTSTAMP:20260424T025745
CREATED:20240924T133500Z
LAST-MODIFIED:20260108T145626Z
UID:10044555-1926855000-1926862200@www.mydementiasupport.org
SUMMARY:New Milton Support & Social Group
DESCRIPTION:Looking for a warm\, welcoming space to connect\, chat\, and enjoy meaningful activities? Join Dementia Support Hampshire & IOW for our weekly social meet-up—open to anyone affected by dementia\, including family\, friends\, and carers. \n🖌️ Activities include: \n\nArts & Crafts\nReminiscence\nConversation\nCognitive Stimulation Games\nLight-hearted Quizzes\nPlus\, tea\, coffee & biscuits!\n\nNo need to book—just come along and join in. Whether you’re looking for companionship\, creativity\, or simply a friendly face\, we’d love to welcome you. \n💷 Suggested donation: £2.50 per person (to help cover running costs) \n 
URL:https://www.mydementiasupport.org/event/new-milton-support-social-group/2031-01-22/
LOCATION:St Mary Magdalene Church Hall\, Church Lane\, New Milton\, Hampshire\, BH25 6QL\, United Kingdom
CATEGORIES:Dementia Support Hampshire & IOW,Memory Cafe,Peer Support Group,Social Event,Support Drop - In,Support Group
ATTACH;FMTTYPE=image/jpeg:https://www.mydementiasupport.org/wp-content/uploads/2024/09/NM-Group-pic.jpg
ORGANIZER;CN="Dementia Support Hampshire & IOW":MAILTO:support@mydementiasupport.org
GEO:50.7478737;-1.6647895
X-APPLE-STRUCTURED-LOCATION;VALUE=URI;X-ADDRESS=St Mary Magdalene Church Hall Church Lane New Milton Hampshire BH25 6QL United Kingdom;X-APPLE-RADIUS=500;X-TITLE=Church Lane:geo:-1.6647895,50.7478737
END:VEVENT
BEGIN:VEVENT
DTSTART;TZID=Europe/London:20310129T133000
DTEND;TZID=Europe/London:20310129T153000
DTSTAMP:20260424T025745
CREATED:20240924T133500Z
LAST-MODIFIED:20260108T145626Z
UID:10044556-1927459800-1927467000@www.mydementiasupport.org
SUMMARY:New Milton Support & Social Group
DESCRIPTION:Looking for a warm\, welcoming space to connect\, chat\, and enjoy meaningful activities? Join Dementia Support Hampshire & IOW for our weekly social meet-up—open to anyone affected by dementia\, including family\, friends\, and carers. \n🖌️ Activities include: \n\nArts & Crafts\nReminiscence\nConversation\nCognitive Stimulation Games\nLight-hearted Quizzes\nPlus\, tea\, coffee & biscuits!\n\nNo need to book—just come along and join in. Whether you’re looking for companionship\, creativity\, or simply a friendly face\, we’d love to welcome you. \n💷 Suggested donation: £2.50 per person (to help cover running costs) \n 
URL:https://www.mydementiasupport.org/event/new-milton-support-social-group/2031-01-29/
LOCATION:St Mary Magdalene Church Hall\, Church Lane\, New Milton\, Hampshire\, BH25 6QL\, United Kingdom
CATEGORIES:Dementia Support Hampshire & IOW,Memory Cafe,Peer Support Group,Social Event,Support Drop - In,Support Group
ATTACH;FMTTYPE=image/jpeg:https://www.mydementiasupport.org/wp-content/uploads/2024/09/NM-Group-pic.jpg
ORGANIZER;CN="Dementia Support Hampshire & IOW":MAILTO:support@mydementiasupport.org
GEO:50.7478737;-1.6647895
X-APPLE-STRUCTURED-LOCATION;VALUE=URI;X-ADDRESS=St Mary Magdalene Church Hall Church Lane New Milton Hampshire BH25 6QL United Kingdom;X-APPLE-RADIUS=500;X-TITLE=Church Lane:geo:-1.6647895,50.7478737
END:VEVENT
BEGIN:VEVENT
DTSTART;TZID=Europe/London:20310205T133000
DTEND;TZID=Europe/London:20310205T153000
DTSTAMP:20260424T025745
CREATED:20240924T133500Z
LAST-MODIFIED:20260108T145626Z
UID:10044557-1928064600-1928071800@www.mydementiasupport.org
SUMMARY:New Milton Support & Social Group
DESCRIPTION:Looking for a warm\, welcoming space to connect\, chat\, and enjoy meaningful activities? Join Dementia Support Hampshire & IOW for our weekly social meet-up—open to anyone affected by dementia\, including family\, friends\, and carers. \n🖌️ Activities include: \n\nArts & Crafts\nReminiscence\nConversation\nCognitive Stimulation Games\nLight-hearted Quizzes\nPlus\, tea\, coffee & biscuits!\n\nNo need to book—just come along and join in. Whether you’re looking for companionship\, creativity\, or simply a friendly face\, we’d love to welcome you. \n💷 Suggested donation: £2.50 per person (to help cover running costs) \n 
URL:https://www.mydementiasupport.org/event/new-milton-support-social-group/2031-02-05/
LOCATION:St Mary Magdalene Church Hall\, Church Lane\, New Milton\, Hampshire\, BH25 6QL\, United Kingdom
CATEGORIES:Dementia Support Hampshire & IOW,Memory Cafe,Peer Support Group,Social Event,Support Drop - In,Support Group
ATTACH;FMTTYPE=image/jpeg:https://www.mydementiasupport.org/wp-content/uploads/2024/09/NM-Group-pic.jpg
ORGANIZER;CN="Dementia Support Hampshire & IOW":MAILTO:support@mydementiasupport.org
GEO:50.7478737;-1.6647895
X-APPLE-STRUCTURED-LOCATION;VALUE=URI;X-ADDRESS=St Mary Magdalene Church Hall Church Lane New Milton Hampshire BH25 6QL United Kingdom;X-APPLE-RADIUS=500;X-TITLE=Church Lane:geo:-1.6647895,50.7478737
END:VEVENT
BEGIN:VEVENT
DTSTART;TZID=Europe/London:20310212T133000
DTEND;TZID=Europe/London:20310212T153000
DTSTAMP:20260424T025745
CREATED:20240924T133500Z
LAST-MODIFIED:20260108T145626Z
UID:10044558-1928669400-1928676600@www.mydementiasupport.org
SUMMARY:New Milton Support & Social Group
DESCRIPTION:Looking for a warm\, welcoming space to connect\, chat\, and enjoy meaningful activities? Join Dementia Support Hampshire & IOW for our weekly social meet-up—open to anyone affected by dementia\, including family\, friends\, and carers. \n🖌️ Activities include: \n\nArts & Crafts\nReminiscence\nConversation\nCognitive Stimulation Games\nLight-hearted Quizzes\nPlus\, tea\, coffee & biscuits!\n\nNo need to book—just come along and join in. Whether you’re looking for companionship\, creativity\, or simply a friendly face\, we’d love to welcome you. \n💷 Suggested donation: £2.50 per person (to help cover running costs) \n 
URL:https://www.mydementiasupport.org/event/new-milton-support-social-group/2031-02-12/
LOCATION:St Mary Magdalene Church Hall\, Church Lane\, New Milton\, Hampshire\, BH25 6QL\, United Kingdom
CATEGORIES:Dementia Support Hampshire & IOW,Memory Cafe,Peer Support Group,Social Event,Support Drop - In,Support Group
ATTACH;FMTTYPE=image/jpeg:https://www.mydementiasupport.org/wp-content/uploads/2024/09/NM-Group-pic.jpg
ORGANIZER;CN="Dementia Support Hampshire & IOW":MAILTO:support@mydementiasupport.org
GEO:50.7478737;-1.6647895
X-APPLE-STRUCTURED-LOCATION;VALUE=URI;X-ADDRESS=St Mary Magdalene Church Hall Church Lane New Milton Hampshire BH25 6QL United Kingdom;X-APPLE-RADIUS=500;X-TITLE=Church Lane:geo:-1.6647895,50.7478737
END:VEVENT
BEGIN:VEVENT
DTSTART;TZID=Europe/London:20310219T133000
DTEND;TZID=Europe/London:20310219T153000
DTSTAMP:20260424T025745
CREATED:20240924T133500Z
LAST-MODIFIED:20260108T145626Z
UID:10044565-1929274200-1929281400@www.mydementiasupport.org
SUMMARY:New Milton Support & Social Group
DESCRIPTION:Looking for a warm\, welcoming space to connect\, chat\, and enjoy meaningful activities? Join Dementia Support Hampshire & IOW for our weekly social meet-up—open to anyone affected by dementia\, including family\, friends\, and carers. \n🖌️ Activities include: \n\nArts & Crafts\nReminiscence\nConversation\nCognitive Stimulation Games\nLight-hearted Quizzes\nPlus\, tea\, coffee & biscuits!\n\nNo need to book—just come along and join in. Whether you’re looking for companionship\, creativity\, or simply a friendly face\, we’d love to welcome you. \n💷 Suggested donation: £2.50 per person (to help cover running costs) \n 
URL:https://www.mydementiasupport.org/event/new-milton-support-social-group/2031-02-19/
LOCATION:St Mary Magdalene Church Hall\, Church Lane\, New Milton\, Hampshire\, BH25 6QL\, United Kingdom
CATEGORIES:Dementia Support Hampshire & IOW,Memory Cafe,Peer Support Group,Social Event,Support Drop - In,Support Group
ATTACH;FMTTYPE=image/jpeg:https://www.mydementiasupport.org/wp-content/uploads/2024/09/NM-Group-pic.jpg
ORGANIZER;CN="Dementia Support Hampshire & IOW":MAILTO:support@mydementiasupport.org
GEO:50.7478737;-1.6647895
X-APPLE-STRUCTURED-LOCATION;VALUE=URI;X-ADDRESS=St Mary Magdalene Church Hall Church Lane New Milton Hampshire BH25 6QL United Kingdom;X-APPLE-RADIUS=500;X-TITLE=Church Lane:geo:-1.6647895,50.7478737
END:VEVENT
BEGIN:VEVENT
DTSTART;TZID=Europe/London:20310226T133000
DTEND;TZID=Europe/London:20310226T153000
DTSTAMP:20260424T025745
CREATED:20240924T133500Z
LAST-MODIFIED:20260108T145626Z
UID:10044576-1929879000-1929886200@www.mydementiasupport.org
SUMMARY:New Milton Support & Social Group
DESCRIPTION:Looking for a warm\, welcoming space to connect\, chat\, and enjoy meaningful activities? Join Dementia Support Hampshire & IOW for our weekly social meet-up—open to anyone affected by dementia\, including family\, friends\, and carers. \n🖌️ Activities include: \n\nArts & Crafts\nReminiscence\nConversation\nCognitive Stimulation Games\nLight-hearted Quizzes\nPlus\, tea\, coffee & biscuits!\n\nNo need to book—just come along and join in. Whether you’re looking for companionship\, creativity\, or simply a friendly face\, we’d love to welcome you. \n💷 Suggested donation: £2.50 per person (to help cover running costs) \n 
URL:https://www.mydementiasupport.org/event/new-milton-support-social-group/2031-02-26/
LOCATION:St Mary Magdalene Church Hall\, Church Lane\, New Milton\, Hampshire\, BH25 6QL\, United Kingdom
CATEGORIES:Dementia Support Hampshire & IOW,Memory Cafe,Peer Support Group,Social Event,Support Drop - In,Support Group
ATTACH;FMTTYPE=image/jpeg:https://www.mydementiasupport.org/wp-content/uploads/2024/09/NM-Group-pic.jpg
ORGANIZER;CN="Dementia Support Hampshire & IOW":MAILTO:support@mydementiasupport.org
GEO:50.7478737;-1.6647895
X-APPLE-STRUCTURED-LOCATION;VALUE=URI;X-ADDRESS=St Mary Magdalene Church Hall Church Lane New Milton Hampshire BH25 6QL United Kingdom;X-APPLE-RADIUS=500;X-TITLE=Church Lane:geo:-1.6647895,50.7478737
END:VEVENT
BEGIN:VEVENT
DTSTART;TZID=Europe/London:20310305T133000
DTEND;TZID=Europe/London:20310305T153000
DTSTAMP:20260424T025745
CREATED:20240924T133500Z
LAST-MODIFIED:20260108T145626Z
UID:10044586-1930483800-1930491000@www.mydementiasupport.org
SUMMARY:New Milton Support & Social Group
DESCRIPTION:Looking for a warm\, welcoming space to connect\, chat\, and enjoy meaningful activities? Join Dementia Support Hampshire & IOW for our weekly social meet-up—open to anyone affected by dementia\, including family\, friends\, and carers. \n🖌️ Activities include: \n\nArts & Crafts\nReminiscence\nConversation\nCognitive Stimulation Games\nLight-hearted Quizzes\nPlus\, tea\, coffee & biscuits!\n\nNo need to book—just come along and join in. Whether you’re looking for companionship\, creativity\, or simply a friendly face\, we’d love to welcome you. \n💷 Suggested donation: £2.50 per person (to help cover running costs) \n 
URL:https://www.mydementiasupport.org/event/new-milton-support-social-group/2031-03-05/
LOCATION:St Mary Magdalene Church Hall\, Church Lane\, New Milton\, Hampshire\, BH25 6QL\, United Kingdom
CATEGORIES:Dementia Support Hampshire & IOW,Memory Cafe,Peer Support Group,Social Event,Support Drop - In,Support Group
ATTACH;FMTTYPE=image/jpeg:https://www.mydementiasupport.org/wp-content/uploads/2024/09/NM-Group-pic.jpg
ORGANIZER;CN="Dementia Support Hampshire & IOW":MAILTO:support@mydementiasupport.org
GEO:50.7478737;-1.6647895
X-APPLE-STRUCTURED-LOCATION;VALUE=URI;X-ADDRESS=St Mary Magdalene Church Hall Church Lane New Milton Hampshire BH25 6QL United Kingdom;X-APPLE-RADIUS=500;X-TITLE=Church Lane:geo:-1.6647895,50.7478737
END:VEVENT
BEGIN:VEVENT
DTSTART;TZID=Europe/London:20310312T133000
DTEND;TZID=Europe/London:20310312T153000
DTSTAMP:20260424T025745
CREATED:20240924T133500Z
LAST-MODIFIED:20260108T145626Z
UID:10044588-1931088600-1931095800@www.mydementiasupport.org
SUMMARY:New Milton Support & Social Group
DESCRIPTION:Looking for a warm\, welcoming space to connect\, chat\, and enjoy meaningful activities? Join Dementia Support Hampshire & IOW for our weekly social meet-up—open to anyone affected by dementia\, including family\, friends\, and carers. \n🖌️ Activities include: \n\nArts & Crafts\nReminiscence\nConversation\nCognitive Stimulation Games\nLight-hearted Quizzes\nPlus\, tea\, coffee & biscuits!\n\nNo need to book—just come along and join in. Whether you’re looking for companionship\, creativity\, or simply a friendly face\, we’d love to welcome you. \n💷 Suggested donation: £2.50 per person (to help cover running costs) \n 
URL:https://www.mydementiasupport.org/event/new-milton-support-social-group/2031-03-12/
LOCATION:St Mary Magdalene Church Hall\, Church Lane\, New Milton\, Hampshire\, BH25 6QL\, United Kingdom
CATEGORIES:Dementia Support Hampshire & IOW,Memory Cafe,Peer Support Group,Social Event,Support Drop - In,Support Group
ATTACH;FMTTYPE=image/jpeg:https://www.mydementiasupport.org/wp-content/uploads/2024/09/NM-Group-pic.jpg
ORGANIZER;CN="Dementia Support Hampshire & IOW":MAILTO:support@mydementiasupport.org
GEO:50.7478737;-1.6647895
X-APPLE-STRUCTURED-LOCATION;VALUE=URI;X-ADDRESS=St Mary Magdalene Church Hall Church Lane New Milton Hampshire BH25 6QL United Kingdom;X-APPLE-RADIUS=500;X-TITLE=Church Lane:geo:-1.6647895,50.7478737
END:VEVENT
BEGIN:VEVENT
DTSTART;TZID=Europe/London:20310319T133000
DTEND;TZID=Europe/London:20310319T153000
DTSTAMP:20260424T025745
CREATED:20240924T133500Z
LAST-MODIFIED:20260108T145626Z
UID:10044593-1931693400-1931700600@www.mydementiasupport.org
SUMMARY:New Milton Support & Social Group
DESCRIPTION:Looking for a warm\, welcoming space to connect\, chat\, and enjoy meaningful activities? Join Dementia Support Hampshire & IOW for our weekly social meet-up—open to anyone affected by dementia\, including family\, friends\, and carers. \n🖌️ Activities include: \n\nArts & Crafts\nReminiscence\nConversation\nCognitive Stimulation Games\nLight-hearted Quizzes\nPlus\, tea\, coffee & biscuits!\n\nNo need to book—just come along and join in. Whether you’re looking for companionship\, creativity\, or simply a friendly face\, we’d love to welcome you. \n💷 Suggested donation: £2.50 per person (to help cover running costs) \n 
URL:https://www.mydementiasupport.org/event/new-milton-support-social-group/2031-03-19/
LOCATION:St Mary Magdalene Church Hall\, Church Lane\, New Milton\, Hampshire\, BH25 6QL\, United Kingdom
CATEGORIES:Dementia Support Hampshire & IOW,Memory Cafe,Peer Support Group,Social Event,Support Drop - In,Support Group
ATTACH;FMTTYPE=image/jpeg:https://www.mydementiasupport.org/wp-content/uploads/2024/09/NM-Group-pic.jpg
ORGANIZER;CN="Dementia Support Hampshire & IOW":MAILTO:support@mydementiasupport.org
GEO:50.7478737;-1.6647895
X-APPLE-STRUCTURED-LOCATION;VALUE=URI;X-ADDRESS=St Mary Magdalene Church Hall Church Lane New Milton Hampshire BH25 6QL United Kingdom;X-APPLE-RADIUS=500;X-TITLE=Church Lane:geo:-1.6647895,50.7478737
END:VEVENT
BEGIN:VEVENT
DTSTART;TZID=Europe/London:20310326T133000
DTEND;TZID=Europe/London:20310326T153000
DTSTAMP:20260424T025745
CREATED:20240924T133500Z
LAST-MODIFIED:20260108T145626Z
UID:10044600-1932298200-1932305400@www.mydementiasupport.org
SUMMARY:New Milton Support & Social Group
DESCRIPTION:Looking for a warm\, welcoming space to connect\, chat\, and enjoy meaningful activities? Join Dementia Support Hampshire & IOW for our weekly social meet-up—open to anyone affected by dementia\, including family\, friends\, and carers. \n🖌️ Activities include: \n\nArts & Crafts\nReminiscence\nConversation\nCognitive Stimulation Games\nLight-hearted Quizzes\nPlus\, tea\, coffee & biscuits!\n\nNo need to book—just come along and join in. Whether you’re looking for companionship\, creativity\, or simply a friendly face\, we’d love to welcome you. \n💷 Suggested donation: £2.50 per person (to help cover running costs) \n 
URL:https://www.mydementiasupport.org/event/new-milton-support-social-group/2031-03-26/
LOCATION:St Mary Magdalene Church Hall\, Church Lane\, New Milton\, Hampshire\, BH25 6QL\, United Kingdom
CATEGORIES:Dementia Support Hampshire & IOW,Memory Cafe,Peer Support Group,Social Event,Support Drop - In,Support Group
ATTACH;FMTTYPE=image/jpeg:https://www.mydementiasupport.org/wp-content/uploads/2024/09/NM-Group-pic.jpg
ORGANIZER;CN="Dementia Support Hampshire & IOW":MAILTO:support@mydementiasupport.org
GEO:50.7478737;-1.6647895
X-APPLE-STRUCTURED-LOCATION;VALUE=URI;X-ADDRESS=St Mary Magdalene Church Hall Church Lane New Milton Hampshire BH25 6QL United Kingdom;X-APPLE-RADIUS=500;X-TITLE=Church Lane:geo:-1.6647895,50.7478737
END:VEVENT
BEGIN:VEVENT
DTSTART;TZID=Europe/London:20310402T133000
DTEND;TZID=Europe/London:20310402T153000
DTSTAMP:20260424T025745
CREATED:20240924T133500Z
LAST-MODIFIED:20260108T145626Z
UID:10044601-1932903000-1932910200@www.mydementiasupport.org
SUMMARY:New Milton Support & Social Group
DESCRIPTION:Looking for a warm\, welcoming space to connect\, chat\, and enjoy meaningful activities? Join Dementia Support Hampshire & IOW for our weekly social meet-up—open to anyone affected by dementia\, including family\, friends\, and carers. \n🖌️ Activities include: \n\nArts & Crafts\nReminiscence\nConversation\nCognitive Stimulation Games\nLight-hearted Quizzes\nPlus\, tea\, coffee & biscuits!\n\nNo need to book—just come along and join in. Whether you’re looking for companionship\, creativity\, or simply a friendly face\, we’d love to welcome you. \n💷 Suggested donation: £2.50 per person (to help cover running costs) \n 
URL:https://www.mydementiasupport.org/event/new-milton-support-social-group/2031-04-02/
LOCATION:St Mary Magdalene Church Hall\, Church Lane\, New Milton\, Hampshire\, BH25 6QL\, United Kingdom
CATEGORIES:Dementia Support Hampshire & IOW,Memory Cafe,Peer Support Group,Social Event,Support Drop - In,Support Group
ATTACH;FMTTYPE=image/jpeg:https://www.mydementiasupport.org/wp-content/uploads/2024/09/NM-Group-pic.jpg
ORGANIZER;CN="Dementia Support Hampshire & IOW":MAILTO:support@mydementiasupport.org
GEO:50.7478737;-1.6647895
X-APPLE-STRUCTURED-LOCATION;VALUE=URI;X-ADDRESS=St Mary Magdalene Church Hall Church Lane New Milton Hampshire BH25 6QL United Kingdom;X-APPLE-RADIUS=500;X-TITLE=Church Lane:geo:-1.6647895,50.7478737
END:VEVENT
BEGIN:VEVENT
DTSTART;TZID=Europe/London:20310409T133000
DTEND;TZID=Europe/London:20310409T153000
DTSTAMP:20260424T025745
CREATED:20240924T133500Z
LAST-MODIFIED:20260108T145626Z
UID:10044613-1933507800-1933515000@www.mydementiasupport.org
SUMMARY:New Milton Support & Social Group
DESCRIPTION:Looking for a warm\, welcoming space to connect\, chat\, and enjoy meaningful activities? Join Dementia Support Hampshire & IOW for our weekly social meet-up—open to anyone affected by dementia\, including family\, friends\, and carers. \n🖌️ Activities include: \n\nArts & Crafts\nReminiscence\nConversation\nCognitive Stimulation Games\nLight-hearted Quizzes\nPlus\, tea\, coffee & biscuits!\n\nNo need to book—just come along and join in. Whether you’re looking for companionship\, creativity\, or simply a friendly face\, we’d love to welcome you. \n💷 Suggested donation: £2.50 per person (to help cover running costs) \n 
URL:https://www.mydementiasupport.org/event/new-milton-support-social-group/2031-04-09/
LOCATION:St Mary Magdalene Church Hall\, Church Lane\, New Milton\, Hampshire\, BH25 6QL\, United Kingdom
CATEGORIES:Dementia Support Hampshire & IOW,Memory Cafe,Peer Support Group,Social Event,Support Drop - In,Support Group
ATTACH;FMTTYPE=image/jpeg:https://www.mydementiasupport.org/wp-content/uploads/2024/09/NM-Group-pic.jpg
ORGANIZER;CN="Dementia Support Hampshire & IOW":MAILTO:support@mydementiasupport.org
GEO:50.7478737;-1.6647895
X-APPLE-STRUCTURED-LOCATION;VALUE=URI;X-ADDRESS=St Mary Magdalene Church Hall Church Lane New Milton Hampshire BH25 6QL United Kingdom;X-APPLE-RADIUS=500;X-TITLE=Church Lane:geo:-1.6647895,50.7478737
END:VEVENT
BEGIN:VEVENT
DTSTART;TZID=Europe/London:20310416T133000
DTEND;TZID=Europe/London:20310416T153000
DTSTAMP:20260424T025745
CREATED:20240924T133500Z
LAST-MODIFIED:20260108T145626Z
UID:10044620-1934112600-1934119800@www.mydementiasupport.org
SUMMARY:New Milton Support & Social Group
DESCRIPTION:Looking for a warm\, welcoming space to connect\, chat\, and enjoy meaningful activities? Join Dementia Support Hampshire & IOW for our weekly social meet-up—open to anyone affected by dementia\, including family\, friends\, and carers. \n🖌️ Activities include: \n\nArts & Crafts\nReminiscence\nConversation\nCognitive Stimulation Games\nLight-hearted Quizzes\nPlus\, tea\, coffee & biscuits!\n\nNo need to book—just come along and join in. Whether you’re looking for companionship\, creativity\, or simply a friendly face\, we’d love to welcome you. \n💷 Suggested donation: £2.50 per person (to help cover running costs) \n 
URL:https://www.mydementiasupport.org/event/new-milton-support-social-group/2031-04-16/
LOCATION:St Mary Magdalene Church Hall\, Church Lane\, New Milton\, Hampshire\, BH25 6QL\, United Kingdom
CATEGORIES:Dementia Support Hampshire & IOW,Memory Cafe,Peer Support Group,Social Event,Support Drop - In,Support Group
ATTACH;FMTTYPE=image/jpeg:https://www.mydementiasupport.org/wp-content/uploads/2024/09/NM-Group-pic.jpg
ORGANIZER;CN="Dementia Support Hampshire & IOW":MAILTO:support@mydementiasupport.org
GEO:50.7478737;-1.6647895
X-APPLE-STRUCTURED-LOCATION;VALUE=URI;X-ADDRESS=St Mary Magdalene Church Hall Church Lane New Milton Hampshire BH25 6QL United Kingdom;X-APPLE-RADIUS=500;X-TITLE=Church Lane:geo:-1.6647895,50.7478737
END:VEVENT
END:VCALENDAR