BEGIN:VCALENDAR
VERSION:2.0
PRODID:-//Dementia Support Hampshire &amp; IOW - ECPv6.15.20//NONSGML v1.0//EN
CALSCALE:GREGORIAN
METHOD:PUBLISH
X-ORIGINAL-URL:https://www.mydementiasupport.org
X-WR-CALDESC:Events for Dementia Support Hampshire &amp; IOW
REFRESH-INTERVAL;VALUE=DURATION:PT1H
X-Robots-Tag:noindex
X-PUBLISHED-TTL:PT1H
BEGIN:VTIMEZONE
TZID:Europe/London
BEGIN:DAYLIGHT
TZOFFSETFROM:+0000
TZOFFSETTO:+0100
TZNAME:BST
DTSTART:20250330T010000
END:DAYLIGHT
BEGIN:STANDARD
TZOFFSETFROM:+0100
TZOFFSETTO:+0000
TZNAME:GMT
DTSTART:20251026T010000
END:STANDARD
BEGIN:DAYLIGHT
TZOFFSETFROM:+0000
TZOFFSETTO:+0100
TZNAME:BST
DTSTART:20260329T010000
END:DAYLIGHT
BEGIN:STANDARD
TZOFFSETFROM:+0100
TZOFFSETTO:+0000
TZNAME:GMT
DTSTART:20261025T010000
END:STANDARD
BEGIN:DAYLIGHT
TZOFFSETFROM:+0000
TZOFFSETTO:+0100
TZNAME:BST
DTSTART:20270328T010000
END:DAYLIGHT
BEGIN:STANDARD
TZOFFSETFROM:+0100
TZOFFSETTO:+0000
TZNAME:GMT
DTSTART:20271031T010000
END:STANDARD
END:VTIMEZONE
BEGIN:VEVENT
DTSTART;TZID=Europe/London:20260324T140000
DTEND;TZID=Europe/London:20260324T153000
DTSTAMP:20260422T165539
CREATED:20250318T153546Z
LAST-MODIFIED:20260108T160501Z
UID:10038997-1774360800-1774366200@www.mydementiasupport.org
SUMMARY:Musical Moments - Lymington
DESCRIPTION:This is a free event hosted by Linden House Care Home\, Lymington in partnership with Dementia Support Hampshire & IOW. \nA drop in afternoon for family\, friends\, carers and those living with dementia. Enjoy a safe\, relaxed afternoon singing to enhance wellbeing and an opportunity to ask questions and share concerns with others. A selection of snacks and refreshments will be available in the beautiful environment of Linden House Care Home in Lymington. No need to book\, just turn up and join in! \nA 45minute musical session\, followed by refreshments. 2pm-3.30pm. \nThe event and is open to anyone and everyone living with dementia\, but particularly beneficial for people living with mid/later stage dementia\, as singing can relieve symptoms and enhance mood.
URL:https://www.mydementiasupport.org/event/musical-moments-lymington/2026-03-24/
LOCATION:Linden House Care Home\, New Street\, Lymington\, Hampshire\, SO419BP\, United Kingdom
CATEGORIES:Music,Social Event
ATTACH;FMTTYPE=image/jpeg:https://www.mydementiasupport.org/wp-content/uploads/2025/03/MM.jpg
ORGANIZER;CN="Dementia Support Hampshire & IOW":MAILTO:support@mydementiasupport.org
GEO:50.7604025;-1.5433602
X-APPLE-STRUCTURED-LOCATION;VALUE=URI;X-ADDRESS=Linden House Care Home New Street Lymington Hampshire SO419BP United Kingdom;X-APPLE-RADIUS=500;X-TITLE=New Street:geo:-1.5433602,50.7604025
END:VEVENT
END:VCALENDAR