BEGIN:VCALENDAR
VERSION:2.0
PRODID:-//Dementia Support Hampshire &amp; IOW - ECPv6.15.20//NONSGML v1.0//EN
CALSCALE:GREGORIAN
METHOD:PUBLISH
X-ORIGINAL-URL:https://www.mydementiasupport.org
X-WR-CALDESC:Events for Dementia Support Hampshire &amp; IOW
REFRESH-INTERVAL;VALUE=DURATION:PT1H
X-Robots-Tag:noindex
X-PUBLISHED-TTL:PT1H
BEGIN:VTIMEZONE
TZID:Europe/London
BEGIN:DAYLIGHT
TZOFFSETFROM:+0000
TZOFFSETTO:+0100
TZNAME:BST
DTSTART:20250330T010000
END:DAYLIGHT
BEGIN:STANDARD
TZOFFSETFROM:+0100
TZOFFSETTO:+0000
TZNAME:GMT
DTSTART:20251026T010000
END:STANDARD
BEGIN:DAYLIGHT
TZOFFSETFROM:+0000
TZOFFSETTO:+0100
TZNAME:BST
DTSTART:20260329T010000
END:DAYLIGHT
BEGIN:STANDARD
TZOFFSETFROM:+0100
TZOFFSETTO:+0000
TZNAME:GMT
DTSTART:20261025T010000
END:STANDARD
BEGIN:DAYLIGHT
TZOFFSETFROM:+0000
TZOFFSETTO:+0100
TZNAME:BST
DTSTART:20270328T010000
END:DAYLIGHT
BEGIN:STANDARD
TZOFFSETFROM:+0100
TZOFFSETTO:+0000
TZNAME:GMT
DTSTART:20271031T010000
END:STANDARD
END:VTIMEZONE
BEGIN:VEVENT
DTSTART;TZID=Europe/London:20260416T130000
DTEND;TZID=Europe/London:20260416T150000
DTSTAMP:20260422T102032
CREATED:20240924T141613Z
LAST-MODIFIED:20260311T144009Z
UID:10021385-1776344400-1776351600@www.mydementiasupport.org
SUMMARY:Fareham Support & Social Group
DESCRIPTION:Looking for a warm\, welcoming space to connect\, chat\, and enjoy meaningful activities? Join Dementia Support Hampshire & IOW for our weekly social meet-up—open to anyone affected by dementia\, including family\, friends\, and carers. \n🖌️ Activities include: \n\nArts & Crafts\nReminiscence\nConversation\nCognitive Stimulation Games\nLight-hearted Quizzes\nPlus\, tea\, coffee & biscuits!\n\nNo need to book—just come along and join in. Whether you’re looking for companionship\, creativity\, or simply a friendly face\, we’d love to welcome you. \n💷 Suggested donation: £2.50 per person (to help cover running costs) \n 
URL:https://www.mydementiasupport.org/event/fareham-support-social-group/2026-04-16/
LOCATION:Holy Trinity Church\, 132 West Street\, Fareham\, Hampshire\, PO16 0EL\, United Kingdom
CATEGORIES:Dementia Cafe,Dementia Support Hampshire & IOW,Memory Cafe,Peer Support Group,Social Event,Support Drop - In,Support Group
ATTACH;FMTTYPE=image/jpeg:https://www.mydementiasupport.org/wp-content/uploads/2024/09/Fareham-Group.jpg
ORGANIZER;CN="Dementia Support Hampshire & IOW":MAILTO:support@mydementiasupport.org
GEO:50.8523803;-1.1825016
X-APPLE-STRUCTURED-LOCATION;VALUE=URI;X-ADDRESS=Holy Trinity Church 132 West Street Fareham Hampshire PO16 0EL United Kingdom;X-APPLE-RADIUS=500;X-TITLE=132 West Street:geo:-1.1825016,50.8523803
END:VEVENT
BEGIN:VEVENT
DTSTART;TZID=Europe/London:20260409T130000
DTEND;TZID=Europe/London:20260409T150000
DTSTAMP:20260422T102032
CREATED:20240924T141613Z
LAST-MODIFIED:20260311T144009Z
UID:10021384-1775739600-1775746800@www.mydementiasupport.org
SUMMARY:Fareham Support & Social Group
DESCRIPTION:Looking for a warm\, welcoming space to connect\, chat\, and enjoy meaningful activities? Join Dementia Support Hampshire & IOW for our weekly social meet-up—open to anyone affected by dementia\, including family\, friends\, and carers. \n🖌️ Activities include: \n\nArts & Crafts\nReminiscence\nConversation\nCognitive Stimulation Games\nLight-hearted Quizzes\nPlus\, tea\, coffee & biscuits!\n\nNo need to book—just come along and join in. Whether you’re looking for companionship\, creativity\, or simply a friendly face\, we’d love to welcome you. \n💷 Suggested donation: £2.50 per person (to help cover running costs) \n 
URL:https://www.mydementiasupport.org/event/fareham-support-social-group/2026-04-09/
LOCATION:Holy Trinity Church\, 132 West Street\, Fareham\, Hampshire\, PO16 0EL\, United Kingdom
CATEGORIES:Dementia Cafe,Dementia Support Hampshire & IOW,Memory Cafe,Peer Support Group,Social Event,Support Drop - In,Support Group
ATTACH;FMTTYPE=image/jpeg:https://www.mydementiasupport.org/wp-content/uploads/2024/09/Fareham-Group.jpg
ORGANIZER;CN="Dementia Support Hampshire & IOW":MAILTO:support@mydementiasupport.org
GEO:50.8523803;-1.1825016
X-APPLE-STRUCTURED-LOCATION;VALUE=URI;X-ADDRESS=Holy Trinity Church 132 West Street Fareham Hampshire PO16 0EL United Kingdom;X-APPLE-RADIUS=500;X-TITLE=132 West Street:geo:-1.1825016,50.8523803
END:VEVENT
BEGIN:VEVENT
DTSTART;TZID=Europe/London:20260402T130000
DTEND;TZID=Europe/London:20260402T150000
DTSTAMP:20260422T102032
CREATED:20240924T141613Z
LAST-MODIFIED:20260311T144009Z
UID:10021383-1775134800-1775142000@www.mydementiasupport.org
SUMMARY:Fareham Support & Social Group
DESCRIPTION:Looking for a warm\, welcoming space to connect\, chat\, and enjoy meaningful activities? Join Dementia Support Hampshire & IOW for our weekly social meet-up—open to anyone affected by dementia\, including family\, friends\, and carers. \n🖌️ Activities include: \n\nArts & Crafts\nReminiscence\nConversation\nCognitive Stimulation Games\nLight-hearted Quizzes\nPlus\, tea\, coffee & biscuits!\n\nNo need to book—just come along and join in. Whether you’re looking for companionship\, creativity\, or simply a friendly face\, we’d love to welcome you. \n💷 Suggested donation: £2.50 per person (to help cover running costs) \n 
URL:https://www.mydementiasupport.org/event/fareham-support-social-group/2026-04-02/
LOCATION:Holy Trinity Church\, 132 West Street\, Fareham\, Hampshire\, PO16 0EL\, United Kingdom
CATEGORIES:Dementia Cafe,Dementia Support Hampshire & IOW,Memory Cafe,Peer Support Group,Social Event,Support Drop - In,Support Group
ATTACH;FMTTYPE=image/jpeg:https://www.mydementiasupport.org/wp-content/uploads/2024/09/Fareham-Group.jpg
ORGANIZER;CN="Dementia Support Hampshire & IOW":MAILTO:support@mydementiasupport.org
GEO:50.8523803;-1.1825016
X-APPLE-STRUCTURED-LOCATION;VALUE=URI;X-ADDRESS=Holy Trinity Church 132 West Street Fareham Hampshire PO16 0EL United Kingdom;X-APPLE-RADIUS=500;X-TITLE=132 West Street:geo:-1.1825016,50.8523803
END:VEVENT
BEGIN:VEVENT
DTSTART;TZID=Europe/London:20260326T130000
DTEND;TZID=Europe/London:20260326T150000
DTSTAMP:20260422T102032
CREATED:20240924T141613Z
LAST-MODIFIED:20260311T144009Z
UID:10021382-1774530000-1774537200@www.mydementiasupport.org
SUMMARY:Fareham Support & Social Group
DESCRIPTION:Looking for a warm\, welcoming space to connect\, chat\, and enjoy meaningful activities? Join Dementia Support Hampshire & IOW for our weekly social meet-up—open to anyone affected by dementia\, including family\, friends\, and carers. \n🖌️ Activities include: \n\nArts & Crafts\nReminiscence\nConversation\nCognitive Stimulation Games\nLight-hearted Quizzes\nPlus\, tea\, coffee & biscuits!\n\nNo need to book—just come along and join in. Whether you’re looking for companionship\, creativity\, or simply a friendly face\, we’d love to welcome you. \n💷 Suggested donation: £2.50 per person (to help cover running costs) \n 
URL:https://www.mydementiasupport.org/event/fareham-support-social-group/2026-03-26/
LOCATION:Holy Trinity Church\, 132 West Street\, Fareham\, Hampshire\, PO16 0EL\, United Kingdom
CATEGORIES:Dementia Cafe,Dementia Support Hampshire & IOW,Memory Cafe,Peer Support Group,Social Event,Support Drop - In,Support Group
ATTACH;FMTTYPE=image/jpeg:https://www.mydementiasupport.org/wp-content/uploads/2024/09/Fareham-Group.jpg
ORGANIZER;CN="Dementia Support Hampshire & IOW":MAILTO:support@mydementiasupport.org
GEO:50.8523803;-1.1825016
X-APPLE-STRUCTURED-LOCATION;VALUE=URI;X-ADDRESS=Holy Trinity Church 132 West Street Fareham Hampshire PO16 0EL United Kingdom;X-APPLE-RADIUS=500;X-TITLE=132 West Street:geo:-1.1825016,50.8523803
END:VEVENT
END:VCALENDAR