BEGIN:VCALENDAR
VERSION:2.0
PRODID:-//Dementia Support Hampshire &amp; IOW - ECPv6.15.20//NONSGML v1.0//EN
CALSCALE:GREGORIAN
METHOD:PUBLISH
X-WR-CALNAME:Dementia Support Hampshire &amp; IOW
X-ORIGINAL-URL:https://www.mydementiasupport.org
X-WR-CALDESC:Events for Dementia Support Hampshire &amp; IOW
REFRESH-INTERVAL;VALUE=DURATION:PT1H
X-Robots-Tag:noindex
X-PUBLISHED-TTL:PT1H
BEGIN:VTIMEZONE
TZID:Europe/London
BEGIN:DAYLIGHT
TZOFFSETFROM:+0000
TZOFFSETTO:+0100
TZNAME:BST
DTSTART:20250330T010000
END:DAYLIGHT
BEGIN:STANDARD
TZOFFSETFROM:+0100
TZOFFSETTO:+0000
TZNAME:GMT
DTSTART:20251026T010000
END:STANDARD
BEGIN:DAYLIGHT
TZOFFSETFROM:+0000
TZOFFSETTO:+0100
TZNAME:BST
DTSTART:20260329T010000
END:DAYLIGHT
BEGIN:STANDARD
TZOFFSETFROM:+0100
TZOFFSETTO:+0000
TZNAME:GMT
DTSTART:20261025T010000
END:STANDARD
BEGIN:DAYLIGHT
TZOFFSETFROM:+0000
TZOFFSETTO:+0100
TZNAME:BST
DTSTART:20270328T010000
END:DAYLIGHT
BEGIN:STANDARD
TZOFFSETFROM:+0100
TZOFFSETTO:+0000
TZNAME:GMT
DTSTART:20271031T010000
END:STANDARD
END:VTIMEZONE
BEGIN:VEVENT
DTSTART;TZID=Europe/London:20261207T133000
DTEND;TZID=Europe/London:20261207T153000
DTSTAMP:20260420T224909
CREATED:20251223T095010Z
LAST-MODIFIED:20251223T100744Z
UID:10021930-1796650200-1796657400@www.mydementiasupport.org
SUMMARY:Basingstoke Christmas Party
DESCRIPTION:Enjoy a Christmas-themed afternoon tea with delicious seasonal treats\, heartwarming company\, and a relaxed\, welcoming atmosphere. \nThe event\, hosted by Dementia Support Hampshire & IOW\, will feature live music by Delvis to lift spirits and spark memories — perfect for singing along\, tapping your toes\, having a dance\, or simply soaking in the festive vibes. We’ll also be holding a Christmas raffle to raise funds for our activities in the year ahead — with some lovely prizes to be won! \nThis is a wonderful opportunity to connect with others\, share stories\, and celebrate the season in a dementia-friendly environment. \nLet’s come together to share joy\, music\, and festive treats in a dementia-friendly space. We can’t wait to celebrate with you! \nSpaces are limited — please book in advance. Please RSVP below.
URL:https://www.mydementiasupport.org/event/basingstoke-christmas-party-2026/
LOCATION:St Michael’s Church Cottage Hall\, Church Square\, Basingstoke\, Hampshire\, RG21 7QW\, United Kingdom
CATEGORIES:Dance & Movement,Dementia Cafe,Dementia Support Hampshire & IOW,Fundraising Event,Memory Cafe,Movement,Music,Music Event,Peer Support Group,Social Event,Special Event
ATTACH;FMTTYPE=image/jpeg:https://www.mydementiasupport.org/wp-content/uploads/2025/10/Basingstoke-Xmas-Party-pic.jpg
ORGANIZER;CN="Dementia Support Hampshire & IOW":MAILTO:support@mydementiasupport.org
GEO:51.2646246;-1.0896013
X-APPLE-STRUCTURED-LOCATION;VALUE=URI;X-ADDRESS=St Michael’s Church Cottage Hall Church Square Basingstoke Hampshire RG21 7QW United Kingdom;X-APPLE-RADIUS=500;X-TITLE=Church Square:geo:-1.0896013,51.2646246
END:VEVENT
BEGIN:VEVENT
DTSTART;TZID=Europe/London:20261209T110000
DTEND;TZID=Europe/London:20261209T130000
DTSTAMP:20260420T224909
CREATED:20251223T094249Z
LAST-MODIFIED:20251223T094344Z
UID:10035822-1796814000-1796821200@www.mydementiasupport.org
SUMMARY:Havant & Waterlooville Christmas Party
DESCRIPTION:Enjoy a Christmas-themed afternoon tea with delicious seasonal treats\, heartwarming company\, and a relaxed\, welcoming atmosphere. \nThe event\, hosted by Dementia Support Hampshire & IOW\, will feature live music to lift spirits and spark memories — perfect for singing along\, tapping your toes\, having a dance\, or simply soaking in the festive vibes. We’ll also be holding a Christmas raffle to raise funds for our activities in the year ahead — with some lovely prizes to be won! \nThis is a wonderful opportunity to connect with others\, share stories\, and celebrate the season in a dementia-friendly environment. \nLet’s come together to share joy\, music\, and festive treats in a dementia-friendly space. We can’t wait to celebrate with you! \nSpaces are limited — please book in advance. Please RSVP below.
URL:https://www.mydementiasupport.org/event/waterlooville-christmas-party-2026/
LOCATION:All Saints Church Denmead\, Hambledon Road\, Denmead\, Waterlooville\, Hampshire\, PO7 6NR
CATEGORIES:Dance & Movement,Dementia Cafe,Dementia Support Hampshire & IOW,Memory Cafe,Movement,Music,Music Event,Peer Support Group,Social Event,Special Event
ATTACH;FMTTYPE=image/jpeg:https://www.mydementiasupport.org/wp-content/uploads/2025/10/NM-Xmas-Party-Pic.jpg
ORGANIZER;CN="Dementia Support Hampshire & IOW":MAILTO:support@mydementiasupport.org
GEO:50.9040755;-1.0674714
X-APPLE-STRUCTURED-LOCATION;VALUE=URI;X-ADDRESS=All Saints Church Denmead Hambledon Road Denmead Waterlooville Hampshire PO7 6NR;X-APPLE-RADIUS=500;X-TITLE=Hambledon Road\, Denmead:geo:-1.0674714,50.9040755
END:VEVENT
BEGIN:VEVENT
DTSTART;TZID=Europe/London:20261209T133000
DTEND;TZID=Europe/London:20261209T153000
DTSTAMP:20260420T224909
CREATED:20251223T094539Z
LAST-MODIFIED:20251223T094748Z
UID:10021039-1796823000-1796830200@www.mydementiasupport.org
SUMMARY:New Milton Christmas Party
DESCRIPTION:Enjoy a Christmas-themed afternoon tea with delicious seasonal treats\, heartwarming company\, and a relaxed\, welcoming atmosphere. \nThe event\, hosted by Dementia Support Hampshire & IOW\, will feature live music by Delvis to lift spirits and spark memories — perfect for singing along\, tapping your toes\, having a dance\, or simply soaking in the festive vibes. We’ll also be holding a Christmas raffle to raise funds for our activities in the year ahead — with some lovely prizes to be won! \nThis is a wonderful opportunity to connect with others\, share stories\, and celebrate the season in a dementia-friendly environment. \nLet’s come together to share joy\, music\, and festive treats in a dementia-friendly space. We can’t wait to celebrate with you! \nSpaces are limited — please book in advance. Please RSVP below.
URL:https://www.mydementiasupport.org/event/new-milton-christmas-party-2026/
LOCATION:St Mary Magdalene Church Hall\, Church Lane\, New Milton\, Hampshire\, BH25 6QL\, United Kingdom
CATEGORIES:Dance & Movement,Dementia Support Hampshire & IOW,Memory Cafe,Movement,Music,Music Event,Peer Support Group,Social Event,Special Event
ATTACH;FMTTYPE=image/jpeg:https://www.mydementiasupport.org/wp-content/uploads/2025/10/NM-Xmas-Party-Pic.jpg
ORGANIZER;CN="Dementia Support Hampshire & IOW":MAILTO:support@mydementiasupport.org
GEO:50.7478737;-1.6647895
X-APPLE-STRUCTURED-LOCATION;VALUE=URI;X-ADDRESS=St Mary Magdalene Church Hall Church Lane New Milton Hampshire BH25 6QL United Kingdom;X-APPLE-RADIUS=500;X-TITLE=Church Lane:geo:-1.6647895,50.7478737
END:VEVENT
BEGIN:VEVENT
DTSTART;TZID=Europe/London:20261211T130000
DTEND;TZID=Europe/London:20261211T150000
DTSTAMP:20260420T224909
CREATED:20251223T092816Z
LAST-MODIFIED:20251223T093258Z
UID:10021675-1796994000-1797001200@www.mydementiasupport.org
SUMMARY:Eastleigh Christmas Party
DESCRIPTION:Enjoy a Christmas-themed afternoon tea with delicious seasonal treats\, heartwarming company\, and a relaxed\, welcoming atmosphere. \nThe event\, hosted by Dementia Support Hampshire & IOW\, will feature live music by Delvis to lift spirits and spark memories — perfect for singing along\, tapping your toes\, having a dance\, or simply soaking in the festive vibes. We’ll also be holding a Christmas raffle to raise funds for our activities in the year ahead — with some lovely prizes to be won! \nThis is a wonderful opportunity to connect with others\, share stories\, and celebrate the season in a dementia-friendly environment. \nLet’s come together to share joy\, music\, and festive treats in a dementia-friendly space. We can’t wait to celebrate with you! \nSpaces are limited — please book in advance. Please RSVP below.
URL:https://www.mydementiasupport.org/event/eastleigh-christmas-party-2026/
LOCATION:St Andrews Church Eastleigh\, Blenheim Road\, Eastleigh\, Hampshire\, SO50 5LQ\, United Kingdom
CATEGORIES:Dance & Movement,Dementia Cafe,Dementia Support Hampshire & IOW,Fundraising Event,Memory Cafe,Movement,Music,Music Event,Peer Support Group,Social Event,Special Event
ATTACH;FMTTYPE=image/jpeg:https://www.mydementiasupport.org/wp-content/uploads/2025/10/Fareham-Xmas-Party-pic.jpg
ORGANIZER;CN="Dementia Support Hampshire & IOW":MAILTO:support@mydementiasupport.org
GEO:50.966371;-1.3546489
X-APPLE-STRUCTURED-LOCATION;VALUE=URI;X-ADDRESS=St Andrews Church Eastleigh Blenheim Road Eastleigh Hampshire SO50 5LQ United Kingdom;X-APPLE-RADIUS=500;X-TITLE=Blenheim Road:geo:-1.3546489,50.966371
END:VEVENT
END:VCALENDAR